BEGIN:VCALENDAR
VERSION:2.0
PRODID:-//Writing - ECPv6.15.18//NONSGML v1.0//EN
CALSCALE:GREGORIAN
METHOD:PUBLISH
X-WR-CALNAME:Writing
X-ORIGINAL-URL:https://writing.georgian.edu
X-WR-CALDESC:Events for Writing
REFRESH-INTERVAL;VALUE=DURATION:PT1H
X-Robots-Tag:noindex
X-PUBLISHED-TTL:PT1H
BEGIN:VTIMEZONE
TZID:America/New_York
BEGIN:DAYLIGHT
TZOFFSETFROM:-0500
TZOFFSETTO:-0400
TZNAME:EDT
DTSTART:20220313T070000
END:DAYLIGHT
BEGIN:STANDARD
TZOFFSETFROM:-0400
TZOFFSETTO:-0500
TZNAME:EST
DTSTART:20221106T060000
END:STANDARD
BEGIN:DAYLIGHT
TZOFFSETFROM:-0500
TZOFFSETTO:-0400
TZNAME:EDT
DTSTART:20230312T070000
END:DAYLIGHT
BEGIN:STANDARD
TZOFFSETFROM:-0400
TZOFFSETTO:-0500
TZNAME:EST
DTSTART:20231105T060000
END:STANDARD
BEGIN:DAYLIGHT
TZOFFSETFROM:-0500
TZOFFSETTO:-0400
TZNAME:EDT
DTSTART:20240310T070000
END:DAYLIGHT
BEGIN:STANDARD
TZOFFSETFROM:-0400
TZOFFSETTO:-0500
TZNAME:EST
DTSTART:20241103T060000
END:STANDARD
BEGIN:DAYLIGHT
TZOFFSETFROM:-0500
TZOFFSETTO:-0400
TZNAME:EDT
DTSTART:20250309T070000
END:DAYLIGHT
BEGIN:STANDARD
TZOFFSETFROM:-0400
TZOFFSETTO:-0500
TZNAME:EST
DTSTART:20251102T060000
END:STANDARD
END:VTIMEZONE
BEGIN:VEVENT
DTSTART;TZID=America/New_York:20240419T190000
DTEND;TZID=America/New_York:20240419T200000
DTSTAMP:20260421T113838
CREATED:20240326T092550Z
LAST-MODIFIED:20240326T092550Z
UID:314-1713553200-1713556800@writing.georgian.edu
SUMMARY:Dose of Poetry - Poetry & Pins - Creative Writing Club & Bowling Club
DESCRIPTION:Join the Creative Writing Club and Bowling Club to celebrate National Poetry Month with this interactive Dose of Poetry event.
URL:https://writing.georgian.edu/event/dose-of-poetry-poetry-pins-creative-writing-club-bowling-club/
LOCATION:NJ
END:VEVENT
BEGIN:VEVENT
DTSTART;TZID=America/New_York:20240411T140000
DTEND;TZID=America/New_York:20240411T170000
DTSTAMP:20260421T113838
CREATED:20240326T092217Z
LAST-MODIFIED:20240406T230941Z
UID:312-1712844000-1712854800@writing.georgian.edu
SUMMARY:Visiting Poet - Darla Himeles
DESCRIPTION:Join the Department of English & IDS to celebrate National Poetry Month with our Visiting Poet Darla Himeles \nCreative Writing Workshop \nReading \nOpen Mic After Party (Creative Writing Club)
URL:https://writing.georgian.edu/event/visiting-poet-darla-himeles/
LOCATION:Casino Ballroom – Georgian Court University\, 900 Lakewood Ave\, Lakewood\, NJ\, 08701\, United States
END:VEVENT
BEGIN:VEVENT
DTSTART;TZID=America/New_York:20240403T150000
DTEND;TZID=America/New_York:20240403T163000
DTSTAMP:20260421T113838
CREATED:20240326T091702Z
LAST-MODIFIED:20240326T091710Z
UID:307-1712156400-1712161800@writing.georgian.edu
SUMMARY:Dose of Poetry - "Blessing the Boats" The Embodied Poetry of Lucille Clifton
DESCRIPTION:
URL:https://writing.georgian.edu/event/dose-of-poetry-blessing-the-boats-the-embodied-poetry-of-lucille-clifton/
LOCATION:SMJC Library – Georgian Court University\, 900 Lakewood Ave\, Lakewood\, NJ\, 08701\, United States
END:VEVENT
BEGIN:VEVENT
DTSTART;TZID=America/New_York:20231213T150000
DTEND;TZID=America/New_York:20231213T163000
DTSTAMP:20260421T113838
CREATED:20231204T222241Z
LAST-MODIFIED:20231204T222241Z
UID:296-1702479600-1702485000@writing.georgian.edu
SUMMARY:Open Mic
DESCRIPTION:Creative Writing Club and Fountain Spray are hosting an end of semester open mic on Wednesday\, December 13th @ 3:00 PM in the Geis Gallery (Jeffries Hall). Let’s gather\, share\, and celebrate the words we have written and the words to come.
URL:https://writing.georgian.edu/event/open-mic/
LOCATION:Geis Gallery – Jeffries Hall\, 900 Lakewood Ave\, Lakewood\, NJ\, 08701\, United States
END:VEVENT
BEGIN:VEVENT
DTSTART;TZID=America/New_York:20231205T030000
DTEND;TZID=America/New_York:20231205T161500
DTSTAMP:20260421T113838
CREATED:20231205T192225Z
LAST-MODIFIED:20231205T192225Z
UID:301-1701745200-1701792900@writing.georgian.edu
SUMMARY:The U.S. Supreme Court\, the 14th Amendment and Social Justice: Rethinking the Court's Role in 2023
DESCRIPTION:The U.S. Supreme Court\, the 14th Amendment and Social Justice: Rethinking the Court’s Role in 2023 \nProfessor Marny Requa \nDate: Tuesday\, December 5\, 3 pm to 4:15 pm \nThe Little Theater \nCohosted by the Department of CJ\, Anthropology\, Sociology & Human Rights\, the Social Justice Committee\, and the Office of Diversity\, Equity & Inclusion. \nThis talk covers recent high-profile Supreme Court cases on affirmative action and abortion law\, exploring the role of the Court in the US government and its impact on racial\, gender\, and economic justice issues. The talk considers the far-reaching influence of the Court and the dynamic relationship between law and social justice. The audience is encouraged to view law as a social artifact as we consider what these decisions tell us about the current US Supreme Court as well as consequences for advocacy efforts\, instigating a shift away from strategic litigation to grassroots organizing and state initiatives on several social justice issues.
URL:https://writing.georgian.edu/event/the-u-s-supreme-court-the-14th-amendment-and-social-justice-rethinking-the-courts-role-in-2023/
LOCATION:NJ
END:VEVENT
BEGIN:VEVENT
DTSTART;TZID=America/New_York:20231117T130000
DTEND;TZID=America/New_York:20231117T143000
DTSTAMP:20260421T113838
CREATED:20231030T151939Z
LAST-MODIFIED:20231030T151939Z
UID:274-1700226000-1700231400@writing.georgian.edu
SUMMARY:Avoiding Plagiarism in the Digital Age
DESCRIPTION:Please join faculty in a discussion of how to avoid plagiarism in student writing. What are we already doing now to aid in student learning and to make plagiarism harder to accomplish? What are the policies currently in place? Finally\, what are the latest trends in the generative AI landscape? \nA Flyer explaining topics for a faculty workshop.
URL:https://writing.georgian.edu/event/avoiding-plagiarism-in-the-digital-age/
LOCATION:Zoom
END:VEVENT
BEGIN:VEVENT
DTSTART;TZID=America/New_York:20231115T080000
DTEND;TZID=America/New_York:20231115T090000
DTSTAMP:20260421T113838
CREATED:20231108T203826Z
LAST-MODIFIED:20231108T203826Z
UID:284-1700035200-1700038800@writing.georgian.edu
SUMMARY:NaNoWriMo Early Morning (W)rites
DESCRIPTION:Join us on Wednesday mornings in November from 8:00 -9:00 AM in the SMJC library to engage in creative and reflective writing. What should I do with an idea? Incubate it! Come write your idea into being and stock up on some characters\, questions\, and plot twists to write out the winter!
URL:https://writing.georgian.edu/event/nanowrimo-early-morning-writes/
LOCATION:SMJC Library – Georgian Court University\, 900 Lakewood Ave\, Lakewood\, NJ\, 08701\, United States
END:VEVENT
BEGIN:VEVENT
DTSTART;TZID=America/New_York:20231114T150000
DTEND;TZID=America/New_York:20231114T160000
DTSTAMP:20260421T113838
CREATED:20231030T152524Z
LAST-MODIFIED:20231030T152525Z
UID:278-1699974000-1699977600@writing.georgian.edu
SUMMARY:Praxis Preparation
DESCRIPTION:Hosted by Ms. Debbie Snyder from the School of Education and Dr. Anthony Brano from the Writing Center. \nThis workshop will provide valuable tips and resources to aid in passing the Praxis! \nWe will discuss how to study for the reading and writing portion of the test. We will also discuss tips and tricks for the essay portion of the text.
URL:https://writing.georgian.edu/event/praxis-preparation/
LOCATION:Farley Center\, Room 202\, 900 Lakewood Ave\, Lakewood\, NJ\, 08701-2600\, United States
ORGANIZER;CN="Ms. Debbie Snyder and Dr. Anthony Brano":MAILTO:dsnyder@georgian.edu
END:VEVENT
BEGIN:VEVENT
DTSTART;TZID=America/New_York:20231113T140000
DTEND;TZID=America/New_York:20231113T160000
DTSTAMP:20260421T113838
CREATED:20231117T134144Z
LAST-MODIFIED:20231117T134144Z
UID:290-1699884000-1699891200@writing.georgian.edu
SUMMARY:Frankenstein: Revisiting Mary Shelley's Legacy
DESCRIPTION:The Humanities Forum Presents: \nRevisiting Mary Shelley’s Legacy \nFaculty Panelists: \nDr. Pamela Rader (English)\, Moderator \nDr. Jonathan Kim-Reuter (Religious Studies/Philosophy) \nDr. Russell McDonald (English)
URL:https://writing.georgian.edu/event/frankenstein-revisiting-mary-shelleys-legacy/
LOCATION:McAuley Heritage Center
END:VEVENT
BEGIN:VEVENT
DTSTART;TZID=America/New_York:20231012T150000
DTEND;TZID=America/New_York:20231012T160000
DTSTAMP:20260421T113838
CREATED:20231005T135916Z
LAST-MODIFIED:20231005T135916Z
UID:271-1697122800-1697126400@writing.georgian.edu
SUMMARY:The World is New: A Centennial Celebration of William Carlos Williams (Doctor/Poet) -- Spring and All
DESCRIPTION:Please\, join Dr. Paul Cappucci\, Department of English\, Christine Stevenson\, Outreach and User Engagement Librarian\, and student leaders Nathalia Garica and Kayla Latendresse on Thursday\, October 12th @ 3:00 PM in the SMJC Library for a celebration of the work of doctor/poet (and New Jerseyian) William Carlos Williams.
URL:https://writing.georgian.edu/event/the-world-is-new-a-centennial-celebration-of-william-carlos-williams-doctor-poet-spring-and-all/
LOCATION:SMJC Library – Georgian Court University\, 900 Lakewood Ave\, Lakewood\, NJ\, 08701\, United States
END:VEVENT
BEGIN:VEVENT
DTSTART;TZID=America/New_York:20231006T150000
DTEND;TZID=America/New_York:20231006T160000
DTSTAMP:20260421T113838
CREATED:20231002T183847Z
LAST-MODIFIED:20231002T183847Z
UID:268-1696604400-1696608000@writing.georgian.edu
SUMMARY:Creative Writing Club Meeting
DESCRIPTION:Join Creative Writing Club President\, Belynnda King\, for the first group meeting of the semester. It’s time to write! (Hence\, the write time\, right?)
URL:https://writing.georgian.edu/event/creative-writing-club-meeting/
LOCATION:SMJC Library – Georgian Court University\, 900 Lakewood Ave\, Lakewood\, NJ\, 08701\, United States
END:VEVENT
BEGIN:VEVENT
DTSTART;TZID=America/New_York:20230901T123000
DTEND;TZID=America/New_York:20230901T140000
DTSTAMP:20260421T113838
CREATED:20230831T140837Z
LAST-MODIFIED:20230831T140837Z
UID:254-1693571400-1693576800@writing.georgian.edu
SUMMARY:Lionpalooza
DESCRIPTION:Check out the Creative Writing Club table at the New Student Orientation Lionpalooza Event!
URL:https://writing.georgian.edu/event/lionpalooza/
LOCATION:Casino Lawn\, 900 Lakewood Ave\, Lakewood\, NJ\, 08701\, United States
END:VEVENT
BEGIN:VEVENT
DTSTART;TZID=America/New_York:20230427T170000
DTEND;TZID=America/New_York:20230427T183000
DTSTAMP:20260421T113838
CREATED:20230404T024355Z
LAST-MODIFIED:20230404T024355Z
UID:162-1682614800-1682620200@writing.georgian.edu
SUMMARY:Dose of Poetry: Poetry in Translation - A Walk through Time and Space
DESCRIPTION:Join us on a poetry tour of the campus in full bloom. Start at the library and grab a hot cup of poet-tea.
URL:https://writing.georgian.edu/event/dose-of-poetry-poetry-in-translation-a-walk-through-time-and-space/
LOCATION:SMJC Library – Georgian Court University\, 900 Lakewood Ave\, Lakewood\, NJ\, 08701\, United States
END:VEVENT
BEGIN:VEVENT
DTSTART;TZID=America/New_York:20230418T170000
DTEND;TZID=America/New_York:20230418T183000
DTSTAMP:20260421T113838
CREATED:20230404T023345Z
LAST-MODIFIED:20230404T023433Z
UID:156-1681837200-1681842600@writing.georgian.edu
SUMMARY:Dose of Poetry: Missing/Missed - An Arts and Advocacy Event
DESCRIPTION:Inspired by the journalism of Erika Marie Rivers\, Our Black Girls\, and Derrica and Natalie Wilson\, producers of the HBO docuseries Black and Missing\, Missed is a piece of participatory action research dedicated to the countless women (and their families) who go missing each year. Police reports reduce the missing person to “the last thing she was seen wearing”; somehow\, in the moment of going missing\, the person becomes a stereotype\, label\, profile that can be stapled on telephone poles: absent and obsolete. According to the National Crime Information Center\, 268\,884 women are reported missing each year. We turn to social media and popular culture to see which stories receive airtime\, exposure\, and thus\, attention\, and which faces do not. Please\, join us on April 18th in the SMJC Library. The art project will include applying redaction to missing ads and newspaper articles to create a series of erasure poems—to find the person missing from the text and make visible the person behind the text. In this excavation of voices\, writers play the role of grief doula and critical witness\, but\, also\, peace medium and generous listener. The limits of the work are unbearable: not being able to bring the body of the person back. The reach of the work offers promise: how can we bring the essence of a person home?
URL:https://writing.georgian.edu/event/dose-of-poetry-missing-missed-an-arts-and-advocacy-event/
LOCATION:SMJC Library – Georgian Court University\, 900 Lakewood Ave\, Lakewood\, NJ\, 08701\, United States
END:VEVENT
BEGIN:VEVENT
DTSTART;TZID=America/New_York:20230413T170000
DTEND;TZID=America/New_York:20230413T183000
DTSTAMP:20260421T113838
CREATED:20230404T022559Z
LAST-MODIFIED:20230404T023617Z
UID:154-1681405200-1681410600@writing.georgian.edu
SUMMARY:Dose of Poetry: A Place of the Genuine - Raw and Real with Marianne Moore
DESCRIPTION:Celebrate National Poetry month with a talk on Marianne Moore and a creative writing workshop. Get Raw and Real: grab a pen and a friend!
URL:https://writing.georgian.edu/event/dose-of-poetry-a-place-of-the-genuine-raw-and-real-with-marianne-moore/
LOCATION:SMJC Library – Georgian Court University\, 900 Lakewood Ave\, Lakewood\, NJ\, 08701\, United States
END:VEVENT
BEGIN:VEVENT
DTSTART;TZID=America/New_York:20230405T153000
DTEND;TZID=America/New_York:20230405T170000
DTSTAMP:20260421T113838
CREATED:20230404T021809Z
LAST-MODIFIED:20230404T023738Z
UID:150-1680708600-1680714000@writing.georgian.edu
SUMMARY:Dose of Poetry: Visiting Poet Nicole Homer Reading
DESCRIPTION:Since graduating from Georgian Court with a B.A. in English Literature\, Nicole Homer ‘08 has obtained multiple graduate degrees in English Literature and Fine Arts; served as a Professor of English at Mercer County Community College; and published her first book of poetry\, Pecking Order. \nNicole will return to Georgian Court this April as the university’s visiting poet. She plans to read a collection of her published poems\, recite works from her next book\, and participate in a Q&A with students on campus. \nRead the full article here: https://georgian.edu/visiting-poet-2023/
URL:https://writing.georgian.edu/event/dose-of-poetry-visiting-poet-nicole-homer-reading/
LOCATION:Casino Ballroom – Georgian Court University\, 900 Lakewood Ave\, Lakewood\, NJ\, 08701\, United States
END:VEVENT
END:VCALENDAR